BEGIN:VCALENDAR
VERSION:2.0
X-WR-CALNAME;VALUE=TEXT:28th Annual Harvard Powwow
PRODID:-//Harvard events data//EN
BEGIN:VEVENT
UID:event_1820525_0
SUMMARY:28th Annual Harvard Powwow
DESCRIPTION:<p><span>Save the Date! 📢</span><br><br><span>🌟 28th Annual Harvard Powwow</span><br><span>📅 9.26.26</span><br><br><span>More information on vendor and dancer registration coming soon.</span></p>
LOCATION:
STATUS:CONFIRMED
DTSTART:20260926T040000Z
DTEND:20260927T035959Z
END:VEVENT
END:VCALENDAR