BEGIN:VCALENDAR
VERSION:2.0
X-WR-CALNAME;VALUE=TEXT:MMIWP Gathering: Remembering Our Relatives
PRODID:-//Harvard events data//EN
BEGIN:VEVENT
UID:event_1820524_0
SUMMARY:MMIWP Gathering: Remembering Our Relatives
DESCRIPTION:<p><span>Come together to honor and remember Missing and Murdered Indigenous Women and People. We will hold space for reflection and remembrance.</span></p>
LOCATION:Harvard University Native American Program 
STATUS:CONFIRMED
DTSTART:20260505T160000Z
DTEND:20260505T180000Z
END:VEVENT
END:VCALENDAR