BEGIN:VCALENDAR
VERSION:2.0
X-WR-CALNAME;VALUE=TEXT:Visitas Open House for Class of 2030
PRODID:-//Harvard events data//EN
BEGIN:VEVENT
UID:event_1820523_0
SUMMARY:Visitas Open House for Class of 2030
DESCRIPTION:<p><span>Class of 2030 — welcome to Harvard 👏🏾👏🏾👏🏾</span><br><br><span>Join us at the HUNAP Open House during Visitas! Meet our students + staff, explore our space, and get a feel for the community and support here for you.</span><br><br><span>Come through, connect, and see what HUNAP has to offer ✨</span><br><br><span>We can’t wait to welcome you 🫶</span><br><br><span>Refreshments provided</span></p>
LOCATION:Harvard University Native American Program 
STATUS:CONFIRMED
DTSTART:20260427T140000Z
DTEND:20260427T160000Z
END:VEVENT
END:VCALENDAR